BEGIN:VCALENDAR
VERSION:2.0
PRODID:-//Ziber2013/
CALSCALE:GREGORIAN
BEGIN:VEVENT
UID:236386@https://www.westfriesemarkt.nl
DTSTART:20260620T110000
DTEND:20260620T130000
SUMMARY:Kinderwagen uitleen, babykleding en gereserveerde kleding.
DESCRIPTION:<p>Uitleen kinderwagens in het Rijtuigenmuseum van 11.00 uur t/m 13.00 uur.</p><p>Kosten €10\,= en €10\,= borg.</p><p>Ook kan babykleding gehuurd worden en de besproken pakken kunnen gehaald worden.</p><p><b>Kosten kelding lenen\;</b></p><p>Herenpak                              €50\,=     Borg      €10\,=</p><p>Damespak                             €40\,=     Borg      €10\,=</p><p>Hul en boerenhoedje          €15\,=     Borg      €10\,=</p><p>Kinderpak.                             €5\,=       Borg      €5\,=</p><p>Contant of mer QR betalen en zelf een tas meenemen.</p><p> </p>
LOCATION:Boerderij- en Rijtuigenmuseum Vreeburg\, Loet 14\, 1741 BP Schagen
ATTACH;FMTTYPE=image/jpeg:/content/12757/agenda/clnt/236386_org.jpg?width=1600&height=1200
SEQUENCE:0
DTSTAMP:20260421T162726
END:VEVENT
END:VCALENDAR
